BEGIN:VCALENDAR
VERSION:2.0
PRODID:-//Vallalar Tamil School - ECPv6.15.20//NONSGML v1.0//EN
CALSCALE:GREGORIAN
METHOD:PUBLISH
X-ORIGINAL-URL:https://njvallalarpalli.org
X-WR-CALDESC:Events for Vallalar Tamil School
REFRESH-INTERVAL;VALUE=DURATION:PT1H
X-Robots-Tag:noindex
X-PUBLISHED-TTL:PT1H
BEGIN:VTIMEZONE
TZID:UTC
BEGIN:STANDARD
TZOFFSETFROM:+0000
TZOFFSETTO:+0000
TZNAME:UTC
DTSTART:20200101T000000
END:STANDARD
END:VTIMEZONE
BEGIN:VTIMEZONE
TZID:America/New_York
BEGIN:DAYLIGHT
TZOFFSETFROM:-0500
TZOFFSETTO:-0400
TZNAME:EDT
DTSTART:20200308T070000
END:DAYLIGHT
BEGIN:STANDARD
TZOFFSETFROM:-0400
TZOFFSETTO:-0500
TZNAME:EST
DTSTART:20201101T060000
END:STANDARD
BEGIN:DAYLIGHT
TZOFFSETFROM:-0500
TZOFFSETTO:-0400
TZNAME:EDT
DTSTART:20210314T070000
END:DAYLIGHT
BEGIN:STANDARD
TZOFFSETFROM:-0400
TZOFFSETTO:-0500
TZNAME:EST
DTSTART:20211107T060000
END:STANDARD
BEGIN:DAYLIGHT
TZOFFSETFROM:-0500
TZOFFSETTO:-0400
TZNAME:EDT
DTSTART:20220313T070000
END:DAYLIGHT
BEGIN:STANDARD
TZOFFSETFROM:-0400
TZOFFSETTO:-0500
TZNAME:EST
DTSTART:20221106T060000
END:STANDARD
END:VTIMEZONE
BEGIN:VTIMEZONE
TZID:America/New_York
BEGIN:DAYLIGHT
TZOFFSETFROM:-0500
TZOFFSETTO:-0400
TZNAME:EDT
DTSTART:20240310T070000
END:DAYLIGHT
BEGIN:STANDARD
TZOFFSETFROM:-0400
TZOFFSETTO:-0500
TZNAME:EST
DTSTART:20241103T060000
END:STANDARD
BEGIN:DAYLIGHT
TZOFFSETFROM:-0500
TZOFFSETTO:-0400
TZNAME:EDT
DTSTART:20250309T070000
END:DAYLIGHT
BEGIN:STANDARD
TZOFFSETFROM:-0400
TZOFFSETTO:-0500
TZNAME:EST
DTSTART:20251102T060000
END:STANDARD
BEGIN:DAYLIGHT
TZOFFSETFROM:-0500
TZOFFSETTO:-0400
TZNAME:EDT
DTSTART:20260308T070000
END:DAYLIGHT
BEGIN:STANDARD
TZOFFSETFROM:-0400
TZOFFSETTO:-0500
TZNAME:EST
DTSTART:20261101T060000
END:STANDARD
END:VTIMEZONE
BEGIN:VEVENT
DTSTART;TZID=UTC:20210911T103000
DTEND;TZID=UTC:20210911T110000
DTSTAMP:20260419T125755
CREATED:20210714T085648Z
LAST-MODIFIED:20220805T184459Z
UID:667-1631356200-1631358000@njvallalarpalli.org
SUMMARY:Back to School
DESCRIPTION:
URL:https://njvallalarpalli.org/event/back-to-school/
ATTACH;FMTTYPE=image/jpeg:https://njvallalarpalli.org/wp-content/uploads/2021/07/flyer_2-scaled.jpg
END:VEVENT
BEGIN:VEVENT
DTSTART;TZID=America/New_York:20211002T110000
DTEND;TZID=America/New_York:20211002T123000
DTSTAMP:20260419T125755
CREATED:20211001T023611Z
LAST-MODIFIED:20220805T184331Z
UID:875-1633172400-1633177800@njvallalarpalli.org
SUMMARY:Parent Orientation
DESCRIPTION:We will have a Parent Orientation this Saturday\, October 2nd at 11AM to explain to the parents about our school syllabus\, school procedures\, school events\, and other details. This is a yearly event to introduce parents to our Tamil School and answer your questions. Please join the Parent Orientation to understand more about our School. \nDate and Time : Saturday\, October 2nd at 11AM EST \nபெற்றோர் அணவு \nநம் பள்ளி குறித்தும்\, நம் பள்ளியின் பாடத்திட்டம்\, நடைமுறைகள் குறித்தும் பெற்றோர்களுக்கு அறிமுகம் செய்யும் கூட்டம் வரும் சனிக்கிழமை காலை 11 மணிக்கு சூம் (Zoom) மூலம் நடைபெறும். இந்தக் கூட்டத்தில் கலந்து கொள்ள பெற்றோர்களை அழைக்கிறோம்.
URL:https://njvallalarpalli.org/event/parent-orientation/
END:VEVENT
BEGIN:VEVENT
DTSTART;TZID=America/New_York:20211211T110000
DTEND;TZID=America/New_York:20211211T133000
DTSTAMP:20260419T125755
CREATED:20211117T063559Z
LAST-MODIFIED:20220805T184257Z
UID:892-1639220400-1639229400@njvallalarpalli.org
SUMMARY:மகாகவி பாரதியார் நினைவு நூற்றாண்டு விழா
DESCRIPTION:மகாகவி சுப்பிரமணிய பாரதியார் டிசம்பர் 11\, 1882 ஆம் ஆண்டில் பிறந்து\, 1921ஆம் ஆண்டு\, செப்டம்பர் மாதம் 11 ஆம் தேதி தன்னுடைய 39 ஆம் வயதில் காலமானார். மிகவும் குறுகியக் காலமே இந்த மண்ணில் வாழ்ந்த பாரதி\, இன்றளவும் கொண்டாடப்படும் கவிதைகளைப் படைத்துள்ளார். இந்த ஆண்டு பாரதி மறைந்த நூற்றாண்டின் நினைவு ஆண்டாக அவரது பெருமைகளை போற்றும் வகையில் கொண்டாடப்படுகிறது.  \nமகாகவி பாரதியின் நினைவைக் கொண்டாடும் வகையில்\, அவருடைய பிறந்த தினமான டிசம்பர் 11ஆம் தேதியன்று\, பாரதியின் நினைவு நூற்றாண்டு விழாவை நடத்த வள்ளலார் தமிழ்ப் பள்ளி முடிவு செய்துள்ளது. \nபாரதியின் நினைவைக் கொண்டாடும் வகையில் பள்ளி மாணவர்கள்\, ஆசிரியர்கள் மற்றும் பெற்றோர்கள் பங்கேற்கும் சிறப்பு நிகழ்ச்சியாக இந்த நினைவு நூற்றாண்டு விழா இணையம் மூலமாக நேரலையில் நடைபெறும். \nநேரலை சுட்டி : njvallalarpalli.org/live \nநாள் : டிசம்பர் 11 ஆம் தேதி\, சனிக்கிழமை \nநேரம் : காலை 11 மணி (EST) \n 
URL:https://njvallalarpalli.org/event/bharathi-centennial-2021/
ATTACH;FMTTYPE=image/jpeg:https://njvallalarpalli.org/wp-content/uploads/2021/11/Bharati-scaled.jpg
END:VEVENT
BEGIN:VEVENT
DTSTART;TZID=UTC:20220521T133000
DTEND;TZID=UTC:20220521T203000
DTSTAMP:20260419T125755
CREATED:20220516T054450Z
LAST-MODIFIED:20220805T184227Z
UID:966-1653139800-1653165000@njvallalarpalli.org
SUMMARY:ஆண்டு விழா 2022
DESCRIPTION:வள்ளலார் தமிழ்ப் பள்ளியின் ஏழாவது ஆண்டு விழா\, மே மாதம் 21 ஆம் தேதி\, சனிக்கிழமை நண்பகல் 1:30மணி முதல் நடைபெற உள்ளது. கடந்த இரண்டு ஆண்டுகளாக இணையம் மூலமாக நேரலையில் நடைபெற்ற பள்ளி விழாக்கள்\, தற்பொழுது நேரடி விழாவாக நடைபெற உள்ளது. இந்த நிகழ்ச்சியில் பள்ளி மாணவர்கள்\, ஆசிரியர்கள் மற்றும் பெற்றோர்களின் கலைநிகழ்ச்சிகள் மற்றும் விளையாட்டுகள் நடைபெறும். \nஅனைவரும் வருக…. \nஇடம் : Melvin H. Kreps Middle School\, \n5 Kent Ln\, East Windsor\, NJ 08520 \nதேதி : மே 21\, சனிக்கிழமை \nநேரம் : நண்பகல் 1:30 மணி முதல் (EST) \nதமிழ் அறிவோம்\, தமிழராய் இணைவோம்… \n\nஆண்டு விழா 2022
URL:https://njvallalarpalli.org/event/%e0%ae%86%e0%ae%a3%e0%af%8d%e0%ae%9f%e0%af%81-%e0%ae%b5%e0%ae%bf%e0%ae%b4%e0%ae%be-2022/
CATEGORIES:Annual day
ATTACH;FMTTYPE=image/jpeg:https://njvallalarpalli.org/wp-content/uploads/2022/05/Annual_day_2022-scaled.jpg
END:VEVENT
BEGIN:VEVENT
DTSTART;TZID=UTC:20220909T183000
DTEND;TZID=UTC:20220909T200000
DTSTAMP:20260419T125755
CREATED:20220805T184058Z
LAST-MODIFIED:20220805T184151Z
UID:1031-1662748200-1662753600@njvallalarpalli.org
SUMMARY:Back to School 2022
DESCRIPTION:
URL:https://njvallalarpalli.org/event/back-to-school-2022/
END:VEVENT
BEGIN:VEVENT
DTSTART;TZID=UTC:20220916T184500
DTEND;TZID=UTC:20220916T200000
DTSTAMP:20260419T125755
CREATED:20220914T230410Z
LAST-MODIFIED:20220914T230410Z
UID:1100-1663353900-1663358400@njvallalarpalli.org
SUMMARY:Parent Orientation
DESCRIPTION:
URL:https://njvallalarpalli.org/event/parent-orientation-2/
END:VEVENT
BEGIN:VEVENT
DTSTART;TZID=UTC:20221210T140000
DTEND;TZID=UTC:20221210T220000
DTSTAMP:20260419T125755
CREATED:20230510T093343Z
LAST-MODIFIED:20230510T093343Z
UID:1434-1670680800-1670709600@njvallalarpalli.org
SUMMARY:வள்ளலார் இருநூற்றாண்டு விழா - Vallalar 200
DESCRIPTION:
URL:https://njvallalarpalli.org/event/vallalar-200/
LOCATION:Melvin H. Kreps Middle School\, 5 Kent Ln\, East Windsor\, NJ\, 08520\, United States
END:VEVENT
BEGIN:VEVENT
DTSTART;TZID=UTC:20230506T140000
DTEND;TZID=UTC:20230506T210000
DTSTAMP:20260419T125755
CREATED:20230510T092917Z
LAST-MODIFIED:20230510T092917Z
UID:1431-1683381600-1683406800@njvallalarpalli.org
SUMMARY:ஆண்டு விழா 2023
DESCRIPTION:
URL:https://njvallalarpalli.org/event/%e0%ae%86%e0%ae%a3%e0%af%8d%e0%ae%9f%e0%af%81-%e0%ae%b5%e0%ae%bf%e0%ae%b4%e0%ae%be-2023/
LOCATION:The Cranbury School\, 23 N Main St\, Cranbury\, NJ\, 08512\, United States
CATEGORIES:Annual day
END:VEVENT
BEGIN:VEVENT
DTSTART;TZID=UTC:20230603T103000
DTEND;TZID=UTC:20230603T123000
DTSTAMP:20260419T125755
CREATED:20230517T055757Z
LAST-MODIFIED:20230517T055757Z
UID:1446-1685788200-1685795400@njvallalarpalli.org
SUMMARY:பட்டமளிப்பு விழா 2023
DESCRIPTION:
URL:https://njvallalarpalli.org/event/graduation-day-2023/
END:VEVENT
BEGIN:VEVENT
DTSTART;TZID=UTC:20230915T183000
DTEND;TZID=UTC:20230915T200000
DTSTAMP:20260419T125755
CREATED:20230711T220955Z
LAST-MODIFIED:20230906T192829Z
UID:1504-1694802600-1694808000@njvallalarpalli.org
SUMMARY:Back to School
DESCRIPTION:
URL:https://njvallalarpalli.org/event/back-to-school-2/
LOCATION:Village Elementary School\, 601 New Village Rd\, West Windsor Township\, NJ\, 08550\, United States
END:VEVENT
BEGIN:VEVENT
DTSTART;TZID=UTC:20240203T120000
DTEND;TZID=UTC:20240203T220000
DTSTAMP:20260419T125755
CREATED:20240629T033647Z
LAST-MODIFIED:20240629T033850Z
UID:2311-1706961600-1706997600@njvallalarpalli.org
SUMMARY:பொங்கல் 2024
DESCRIPTION:வள்ளலார் தமிழ்ப் பள்ளியின் முக்கிய விழாவாக ஒவ்வொரு ஆண்டும் பொங்கல் விழா நடைபெற்று வருகிறது. பொங்கல் விழா நம் பள்ளி மாணவர்களின் மொழித் திறமையை வெளிப்படுத்தும் முக்கியக் களமாக விளங்கி வருகிறது. \nகலைநிகழ்ச்சிகளிலும்\, போட்டிகளிலும் பங்கேற்க மாணவர்களையும்\, பெற்றோர்களையும் அழைக்கிறோம். \n\n\nபொங்கல் விழா நாள் : சனிக்கிழமை\, பிப்ரவரி 3 ஆம் தேதி. \nநேரம் : நண்பகல் 12 மணி முதல் \nஇடம் : Community Middle School\, \n\n\n\n95 Grovers Mill Rd\, Plainsboro Township\, NJ 08536
URL:https://njvallalarpalli.org/event/pongal2024/
LOCATION:Community Middle School\, 95 Grovers Mill Rd\, Plainsboro Township\, 08536\, United States
END:VEVENT
BEGIN:VEVENT
DTSTART;TZID=UTC:20240601T133000
DTEND;TZID=UTC:20240601T220000
DTSTAMP:20260419T125755
CREATED:20240629T034453Z
LAST-MODIFIED:20240629T034453Z
UID:2315-1717248600-1717279200@njvallalarpalli.org
SUMMARY:ஆண்டு விழா 2024
DESCRIPTION:வள்ளலார் தமிழ்ப் பள்ளியின் கொண்டாட்டமான விழாவாக “ஆண்டு விழா” நடைபெற்று வருகிறது. பாடல்கள்\, நாடகங்கள்\, நடனங்கள் மற்றும் பல்வேறு கலைநிகழ்ச்சிகள் நடைபெற உள்ளன. அனைவரும் வருக!! \nஆண்டு விழா நாள் : சனிக்கிழமை\, சூன் 1 ஆம் தேதி. \nநேரம் : நண்பகல் 1:30 மணி முதல் \nஇடம் : Community Middle School\, \n\n\n\n95 Grovers Mill Rd\, Plainsboro Township\, NJ 08536
URL:https://njvallalarpalli.org/event/%e0%ae%86%e0%ae%a3%e0%af%8d%e0%ae%9f%e0%af%81-%e0%ae%b5%e0%ae%bf%e0%ae%b4%e0%ae%be-2024/
LOCATION:Community Middle School\, 95 Grovers Mill Rd\, Plainsboro Township\, 08536\, United States
END:VEVENT
BEGIN:VEVENT
DTSTART;TZID=UTC:20240614T183000
DTEND;TZID=UTC:20240614T203000
DTSTAMP:20260419T125755
CREATED:20240629T035220Z
LAST-MODIFIED:20240629T035220Z
UID:2317-1718389800-1718397000@njvallalarpalli.org
SUMMARY:பட்டமளிப்பு விழா 2024
DESCRIPTION:இந்தாண்டு\, நம் பள்ளியில் தேர்ச்சி பெற்று\, பட்டம் பெறும் எட்டாம் வகுப்பு மாணவர்களுக்கான பட்டமளிப்பு விழா\, வரும் வெள்ளிக்கிழமை மாலை 6:30மணிக்கு நடைபெற உள்ளது. இந்த பட்டமளிப்பு விழாவின் சிறப்பு விருந்தினாராக பேராசிரியர் முனைவர் திருமிகு.சுப்புலட்சுமி மோகன் அவர்கள் பங்கேற்கிறார். \nமுனைவர் திருமிகு.சுப்புலட்சுமி மோகன் அவர்கள் வேல்ஸ் பல்கலைக்கழகத்தின் இசை மற்றும் நுண்கலைப் புலத்தின் இயக்குனராகப் பணியாற்றுகிறார். இவர் பல வருடங்கள் தமிழ்நாடு அரசு இசைக் கல்லூரியின் முதல்வராக இருந்து ஓய்வு பெற்றவர். வேல்ஸ் பல்கலைகழகம்\, தமிழ்நாடு இசை மற்றும் கவின்கலை பல்கலைக்கழகம் மற்றும் மதுரை காமராசர் பல்கலைக்கழகம் ஆகியவற்றில் ஆய்வு நெறியாளராகச் செயலாற்றுகிறார். மத்திய மற்றும் மாநில அரசுகளின் இசைத்துறைகளில் ஆய்வாளராகவும் புத்தகப் பரிந்துரை குழுக்களிலும் பணியாற்றுகிறார். \nஇவரது படைப்புகள் : தமிழ் இசை கருவூலம்\, நரம்பு மற்றும் காற்று இசை கருவிகள்\, முத்துத் தாண்டவர்\, சம்பந்தர் மற்றும் காரைக்கால் அம்மையார் பற்றிய ஆய்வு கட்டுரைகள். இவர் எழுதிய “தமிழ் இசை இலக்கணம்” தமிழக அரசு கல்லூரிகளில் பாடப்புத்தகமாகப் பயன்படுத்தப்படுகிறது. \nதமிழ்நாடு அரசின் “கலை சுடர்மணி” விருது\, இலங்கை மற்றும் மதுரையைச் சார்ந்த பல்வேறு கழகங்களின் மூலம் ‘பண்ணிசைத் தென்றல் ‘\, ‘பண்ணிசைச் செல்வி’ \, ‘இளைய பாரதி’ என பல விருதுகளை இவர் பெற்றுள்ளார். \nபட்டமளிப்பு விழாவில் பங்கேற்க அனைவரையும் அழைக்கிறோம். \nவெள்ளிக்கிழமை \, சூன் 14\, 2024 | மாலை 6:30 மணி\nCommunity Middle School Auditorium\, Plainsboro \nதமிழ் அறிவோம்\, தமிழராய் இணைவோம்…
URL:https://njvallalarpalli.org/event/graduation2024/
LOCATION:Community Middle School\, 95 Grovers Mill Rd\, Plainsboro Township\, 08536\, United States
END:VEVENT
BEGIN:VEVENT
DTSTART;TZID=UTC:20240913T183000
DTEND;TZID=UTC:20240913T200000
DTSTAMP:20260419T125755
CREATED:20240629T035921Z
LAST-MODIFIED:20240629T035921Z
UID:2322-1726252200-1726257600@njvallalarpalli.org
SUMMARY:Back to School 2024
DESCRIPTION:
URL:https://njvallalarpalli.org/event/back-to-school-2024/
LOCATION:Community Middle School\, 95 Grovers Mill Rd\, Plainsboro Township\, 08536\, United States
END:VEVENT
BEGIN:VEVENT
DTSTART;TZID=America/New_York:20250202T120000
DTEND;TZID=America/New_York:20250202T200000
DTSTAMP:20260419T125755
CREATED:20250128T142123Z
LAST-MODIFIED:20250128T142526Z
UID:2720-1738497600-1738526400@njvallalarpalli.org
SUMMARY:பொங்கல் 2025
DESCRIPTION:  \nவள்ளலார் தமிழ்ப் பள்ளியின் முக்கிய விழாவாக ஒவ்வொரு ஆண்டும் பொங்கல் விழா நடைபெற்று வருகிறது. பொங்கல் விழா நம் பள்ளி மாணவர்களின் மொழித் திறமையை வெளிப்படுத்தும் முக்கியக் களமாக விளங்கி வருகிறது. \nகலைநிகழ்ச்சிகளிலும்\, போட்டிகளிலும் பங்கேற்க மாணவர்களையும்\, பெற்றோர்களையும் அழைக்கிறோம். \nவிழா விவரங்கள்: \nபொங்கல் விழா நாள்: ஞாயிற்றுக்கிழமை\, பிப்ரவரி 2 ஆம் தேதி \nநேரம்: நண்பகல் 12 மணி முதல் \nஇடம்: Community Middle School\, Plainsboro
URL:https://njvallalarpalli.org/event/%e0%ae%aa%e0%af%8a%e0%ae%99%e0%af%8d%e0%ae%95%e0%ae%b2%e0%af%8d-2025/
LOCATION:Community Middle School\, 95 Grovers Mill Rd\, Plainsboro Township\, 08536\, United States
END:VEVENT
BEGIN:VEVENT
DTSTART;TZID=America/New_York:20250531T133000
DTEND;TZID=America/New_York:20250531T220000
DTSTAMP:20260419T125755
CREATED:20250527T222947Z
LAST-MODIFIED:20250527T223026Z
UID:2996-1748698200-1748728800@njvallalarpalli.org
SUMMARY:பத்தாவது ஆண்டு விழா - 2025
DESCRIPTION:வள்ளலார் தமிழ்ப் பள்ளியின் பத்தாவது ஆண்டு விழா வரும் சனிக்கிழமை நடைபெற உள்ளது.  \nநாள் : சனிக்கிழமை\, மே 31ஆம் தேதி \nநேரம் : நண்பகல் 1:30 மணி \nஆண்டு விழாவில் மாணவர்களின் பல வரலாற்று நாடகங்கள்\, சமகால நாடகங்கள்\, விவாத மேடை\, நாட்டிய நாடகம்\, பாடல்கள்\, நடனங்கள் என பல்வேறு கலைநிகழ்ச்சிகள் நடைபெற உள்ளன. \nவரலாற்று நாடகங்கள்\nசிலப்பதிகாரம்\, கரிகாலனின் கல்லணை\, கடாரம் கொண்டான் ராஜேந்திர சோழன்\, வீரமங்கை வேலுநாச்சியார்\, வீர பாண்டிய கட்டபொம்மன்  \nசமகால நாடகங்கள் – பாரம்பரிய விளையாட்டுக்கள்\, பசுமையின் குரல்\, சுற்றுச்சூழல் மேம்பாடு \nவிவாத மேடை – இன்றைய வாழ்வியலுக்கு திருக்குறள் \nநாட்டிய நாடகம் – வாழும் வள்ளுவம்\, தமிழும் தமிழர் வரலாறும் \nஅனைவரும் வருக!! \nஇடம் \nCommunity Middle School \n95 Grovers Mill Rd\, Plainsboro Township\, NJ 08536 \nதமிழ் அறிவோம்\, தமிழராய் இணைவோம்
URL:https://njvallalarpalli.org/event/%e0%ae%aa%e0%ae%a4%e0%af%8d%e0%ae%a4%e0%ae%be%e0%ae%b5%e0%ae%a4%e0%af%81-%e0%ae%86%e0%ae%a3%e0%af%8d%e0%ae%9f%e0%af%81-%e0%ae%b5%e0%ae%bf%e0%ae%b4%e0%ae%be-2025/
LOCATION:Community Middle School\, 95 Grovers Mill Rd\, Plainsboro Township\, 08536\, United States
END:VEVENT
BEGIN:VEVENT
DTSTART;TZID=America/New_York:20250905T183000
DTEND;TZID=America/New_York:20250905T200000
DTSTAMP:20260419T125755
CREATED:20250810T211833Z
LAST-MODIFIED:20250810T211833Z
UID:3175-1757097000-1757102400@njvallalarpalli.org
SUMMARY:New Student Evaluation
DESCRIPTION:Evaluation for New Students \nThe evaluation for new students will be held on Friday\, September 5th\, 2025\, at Community Middle School\, Plainsboro. \nThis evaluation is only for students joining Vallalar Tamil School for the first time. Students who have previously studied in a CTA school are not required to take this evaluation; they will be automatically placed in the next grade. \nRequirement for New Student Evaluation \nTo take the evaluation\, students must first register on our website. Upon successful registration\, they will receive a Placement Test Request Email. \nStudents should show this email at the venue to take the evaluation exam.
URL:https://njvallalarpalli.org/event/new-student-evaluation/
LOCATION:Community Middle School\, 95 Grovers Mill Rd\, Plainsboro Township\, 08536\, United States
END:VEVENT
BEGIN:VEVENT
DTSTART;TZID=America/New_York:20250913T183000
DTEND;TZID=America/New_York:20250913T200000
DTSTAMP:20260419T125755
CREATED:20250810T212740Z
LAST-MODIFIED:20250810T212740Z
UID:3177-1757788200-1757793600@njvallalarpalli.org
SUMMARY:Back to School 2025
DESCRIPTION:Back to School 2025 \nDate: Friday\, September 12th\, 2025 \nParents and students are requested to note their classroom\, section\, and room number before arriving at school. \nUpon arrival\, please assemble in the Auditorium and sit in the seating area assigned to your class and section. Class teachers will then escort students to their respective classrooms.
URL:https://njvallalarpalli.org/event/back-to-school-2025/
LOCATION:Community Middle School\, 95 Grovers Mill Rd\, Plainsboro Township\, 08536\, United States
END:VEVENT
END:VCALENDAR